BEGIN:VCALENDAR
METHOD:PUBLISH
X-WR-TIMEZONE:America/Denver
PRODID:-//Hold My Ticket.//HMT Web App//EN
CALSCALE:GREGORIAN
METHOD:PUBLISH
X-WR-CALNAME:Twilight Cafe and Bar
X-WR-CALDESC:Upcoming events at Twilight Cafe and Bar
BEGIN:VTIMEZONE
TZID:America/Denver 
END:VTIMEZONE
BEGIN:VEVENT
SEQUENCE:2
TRANSP:OPAQUE
UID:6e8de38f721d50b3101af546e5020edc
DTSTART:20240713T200000
DTSTAMP:20240423T213335Z
SUMMARY:Enraile, Kidd Nostalgia, Frank Jav Cee, Hotel Pools, Sitting on Turtles 
DESCRIPTION:
CREATED:20240423T213335Z
URL;VALUE=URI:http://holdmyticket.com/event/432678 

DTEND:20240714T010000
END:VEVENT
END:VCALENDAR