BEGIN:VCALENDAR
METHOD:PUBLISH
X-WR-TIMEZONE:America/Denver
PRODID:-//Hold My Ticket.//HMT Web App//EN
CALSCALE:GREGORIAN
METHOD:PUBLISH
X-WR-CALNAME:Buffalo Rose
X-WR-CALDESC:Upcoming events at Buffalo Rose
BEGIN:VTIMEZONE
TZID:America/Denver 
END:VTIMEZONE
BEGIN:VEVENT
SEQUENCE:2
TRANSP:OPAQUE
UID:e89e98887fc9e110332b8147f4bb1f4f
DTSTART:20250214T190000
DTSTAMP:20250214T134155Z
SUMMARY:Spinphony Electronic String Quartet
DESCRIPTION:
CREATED:20250214T134155Z
URL;VALUE=URI:http://holdmyticket.com/event/432873 

DTEND:20250214T220000
END:VEVENT
END:VCALENDAR