BEGIN:VCALENDAR
METHOD:PUBLISH
X-WR-TIMEZONE:America/Denver
PRODID:-//Hold My Ticket.//HMT Web App//EN
CALSCALE:GREGORIAN
METHOD:PUBLISH
X-WR-CALNAME:Santa Fe Railyard Park
X-WR-CALDESC:Upcoming events at Santa Fe Railyard Park
BEGIN:VTIMEZONE
TZID:America/Denver 
END:VTIMEZONE
BEGIN:VEVENT
SEQUENCE:2
TRANSP:OPAQUE
UID:277a63c1a2a4ad99b7c8530799d0dabf
DTSTART:20240824T190000
DTSTAMP:20240516T100731Z
SUMMARY:ET
DESCRIPTION:
CREATED:20240516T100731Z
URL;VALUE=URI:http://holdmyticket.com/event/433023 

DTEND:20240824T220000
END:VEVENT
END:VCALENDAR