BEGIN:VCALENDAR
METHOD:PUBLISH
X-WR-TIMEZONE:America/Denver
PRODID:-//Hold My Ticket.//HMT Web App//EN
CALSCALE:GREGORIAN
METHOD:PUBLISH
X-WR-CALNAME:HQ
X-WR-CALDESC:Upcoming events at HQ
BEGIN:VTIMEZONE
TZID:America/Denver 
END:VTIMEZONE
BEGIN:VEVENT
SEQUENCE:2
TRANSP:OPAQUE
UID:7cae039e1a6359a9dadfbe56526d5ab2
DTSTART:20240902T200000
DTSTAMP:20240606T220545Z
SUMMARY:Nervosa
DESCRIPTION:
CREATED:20240606T220545Z
URL;VALUE=URI:http://holdmyticket.com/event/433361 

DTEND:20240902T233000
END:VEVENT
END:VCALENDAR