BEGIN:VCALENDAR
METHOD:PUBLISH
X-WR-TIMEZONE:America/Los_Angeles
PRODID:-//Hold My Ticket.//HMT Web App//EN
CALSCALE:GREGORIAN
METHOD:PUBLISH
X-WR-CALNAME:Manzano Mesa Park
X-WR-CALDESC:Upcoming events at Manzano Mesa Park
BEGIN:VTIMEZONE
TZID:America/Los_Angeles 
END:VTIMEZONE
BEGIN:VEVENT
SEQUENCE:2
TRANSP:OPAQUE
UID:c05be8dc8fefaf725be35907fd5c1082
DTSTART:20240601T120000
DTSTAMP:20240530T070818Z
SUMMARY:Caribbean Celebration
DESCRIPTION:Join New Mexico Entertainment Magazine and Corrie Griffith of Big Happy Productions as we present the Caribbean Celebration in honor of Caribbean-American Heritage Month. The event features cuisine, music, clothing, and more.
CREATED:20240530T070818Z
URL;VALUE=URI:http://holdmyticket.com/event/433370 

DTEND:20240601T180000
END:VEVENT
END:VCALENDAR