BEGIN:VCALENDAR
METHOD:PUBLISH
X-WR-TIMEZONE:America/Denver
PRODID:-//Hold My Ticket.//HMT Web App//EN
CALSCALE:GREGORIAN
METHOD:PUBLISH
X-WR-CALNAME:Santa Fe Railyard Plaza
X-WR-CALDESC:Upcoming events at Santa Fe Railyard Plaza
BEGIN:VTIMEZONE
TZID:America/Denver 
END:VTIMEZONE
BEGIN:VEVENT
SEQUENCE:2
TRANSP:OPAQUE
UID:4ac83ac35dbfb4a2699c3e07e080a5ea
DTSTART:20240710T180000
DTSTAMP:20240709T101600Z
SUMMARY:Bombino
DESCRIPTION:
CREATED:20240709T101600Z
URL;VALUE=URI:http://holdmyticket.com/event/433641 

DTEND:20240710T230000
END:VEVENT
END:VCALENDAR