BEGIN:VCALENDAR
METHOD:PUBLISH
X-WR-TIMEZONE:America/Denver
PRODID:-//Hold My Ticket.//HMT Web App//EN
CALSCALE:GREGORIAN
METHOD:PUBLISH
X-WR-CALNAME:Santa Fe Plaza
X-WR-CALDESC:Upcoming events at Santa Fe Plaza
BEGIN:VTIMEZONE
TZID:America/Denver 
END:VTIMEZONE
BEGIN:VEVENT
SEQUENCE:2
TRANSP:OPAQUE
UID:4d2f36abaeb23729de8b445cd36daeac
DTSTART:20240808T180000
DTSTAMP:20240808T182238Z
SUMMARY:Sir Woman
DESCRIPTION:
CREATED:20240808T182238Z
URL;VALUE=URI:http://holdmyticket.com/event/433670 

DTEND:20240808T230000
END:VEVENT
END:VCALENDAR