BEGIN:VCALENDAR
METHOD:PUBLISH
X-WR-TIMEZONE:America/Denver
PRODID:-//Hold My Ticket.//HMT Web App//EN
CALSCALE:GREGORIAN
METHOD:PUBLISH
X-WR-CALNAME:Santa Fe Railyard Plaza
X-WR-CALDESC:Upcoming events at Santa Fe Railyard Plaza
BEGIN:VTIMEZONE
TZID:America/Denver 
END:VTIMEZONE
BEGIN:VEVENT
SEQUENCE:2
TRANSP:OPAQUE
UID:c282bfc85337950887b27b0f68f03def
DTSTART:20240809T180000
DTSTAMP:20240726T162524Z
SUMMARY:Digable Planets
DESCRIPTION:
CREATED:20240726T162524Z
URL;VALUE=URI:http://holdmyticket.com/event/433671 

DTEND:20240809T230000
END:VEVENT
END:VCALENDAR