BEGIN:VCALENDAR
METHOD:PUBLISH
X-WR-TIMEZONE:America/Denver
PRODID:-//Hold My Ticket.//HMT Web App//EN
CALSCALE:GREGORIAN
METHOD:PUBLISH
X-WR-CALNAME:Santa Fe Plaza
X-WR-CALDESC:Upcoming events at Santa Fe Plaza
BEGIN:VTIMEZONE
TZID:America/Denver 
END:VTIMEZONE
BEGIN:VEVENT
SEQUENCE:2
TRANSP:OPAQUE
UID:8e78f3e6219f462da62c760a3b5d3981
DTSTART:20240819T180000
DTSTAMP:20240523T101236Z
SUMMARY:Black Pearl Band
DESCRIPTION:
CREATED:20240523T101236Z
URL;VALUE=URI:http://holdmyticket.com/event/433675 

DTEND:20240819T230000
END:VEVENT
END:VCALENDAR