BEGIN:VCALENDAR
METHOD:PUBLISH
X-WR-TIMEZONE:America/Denver
PRODID:-//Hold My Ticket.//HMT Web App//EN
CALSCALE:GREGORIAN
METHOD:PUBLISH
X-WR-CALNAME:Outpost Performance Space
X-WR-CALDESC:Upcoming events at Outpost Performance Space
BEGIN:VTIMEZONE
TZID:America/Denver 
END:VTIMEZONE
BEGIN:VEVENT
SEQUENCE:2
TRANSP:OPAQUE
UID:65090a7febbe886b63d943204365e08d
DTSTART:20240801T193000
DTSTAMP:20240801T144723Z
SUMMARY:Le Chat Lunatique
DESCRIPTION:Le Chat Lunatique is, as they describe themselves, "a group of middle-aged gentlemen who hit, scratch and yell notes
CREATED:20240801T144723Z
URL;VALUE=URI:http://holdmyticket.com/event/433927 

DTEND:20240801T213000
END:VEVENT
END:VCALENDAR