BEGIN:VCALENDAR
METHOD:PUBLISH
X-WR-TIMEZONE:America/Denver
PRODID:-//Hold My Ticket.//HMT Web App//EN
CALSCALE:GREGORIAN
METHOD:PUBLISH
X-WR-CALNAME:Taos Ski Valley
X-WR-CALDESC:Upcoming events at Taos Ski Valley
BEGIN:VTIMEZONE
TZID:America/Denver 
END:VTIMEZONE
BEGIN:VEVENT
SEQUENCE:2
TRANSP:OPAQUE
UID:695d999ee24dc7525ade1e556ee009bb
DTSTART:20240831T100000
DTSTAMP:20240807T140851Z
SUMMARY:Mutt Strut: 5k Dog Fun Run/Walk and Pet Costume Parade and Contest
DESCRIPTION:Mark your calendars and tell your pups because the Mutt Strut is coming back to Taos Ski Valley on August 31st! 
New this year, a pet costume parade and contest!!
CREATED:20240807T140851Z
URL;VALUE=URI:http://holdmyticket.com/event/433962 

DTEND:20240831T160000
END:VEVENT
END:VCALENDAR