BEGIN:VCALENDAR
METHOD:PUBLISH
X-WR-TIMEZONE:Pacific/Honolulu
PRODID:-//Hold My Ticket.//HMT Web App//EN
CALSCALE:GREGORIAN
METHOD:PUBLISH
X-WR-CALNAME:-- See Details Inside (Maui)
X-WR-CALDESC:Upcoming events at -- See Details Inside (Maui)
BEGIN:VTIMEZONE
TZID:Pacific/Honolulu 
END:VTIMEZONE
BEGIN:VEVENT
SEQUENCE:2
TRANSP:OPAQUE
UID:4b637fd9c40c7b162c42f5be1891f3ed
DTSTART:20241205T180000
DTSTAMP:20241205T010152Z
SUMMARY:Strung Out
DESCRIPTION:
CREATED:20241205T010152Z
URL;VALUE=URI:http://holdmyticket.com/event/434273 

DTEND:20241205T214500
END:VEVENT
END:VCALENDAR