BEGIN:VCALENDAR
METHOD:PUBLISH
X-WR-TIMEZONE:Pacific/Honolulu
PRODID:-//Hold My Ticket.//HMT Web App//EN
CALSCALE:GREGORIAN
METHOD:PUBLISH
X-WR-CALNAME:-- See Details Inside
X-WR-CALDESC:Upcoming events at -- See Details Inside
BEGIN:VTIMEZONE
TZID:Pacific/Honolulu 
END:VTIMEZONE
BEGIN:VEVENT
SEQUENCE:2
TRANSP:OPAQUE
UID:834b8181e0e8827e1a542a480ec7154c
DTSTART:20250118T200000
DTSTAMP:20250118T185220Z
SUMMARY:Pinups / Burlesque / Music / Comedy / Pole Dancers / More  -- 
DESCRIPTION:
CREATED:20250118T185220Z
URL;VALUE=URI:http://holdmyticket.com/event/434277 

DTEND:20250119T020000
END:VEVENT
END:VCALENDAR