BEGIN:VCALENDAR
METHOD:PUBLISH
X-WR-TIMEZONE:America/Denver
PRODID:-//Hold My Ticket.//HMT Web App//EN
CALSCALE:GREGORIAN
METHOD:PUBLISH
X-WR-CALNAME:Alamosa Community Center
X-WR-CALDESC:Upcoming events at Alamosa Community Center
BEGIN:VTIMEZONE
TZID:America/Denver 
END:VTIMEZONE
BEGIN:VEVENT
SEQUENCE:2
TRANSP:OPAQUE
UID:b9bd360f0f566edcd42c4f240a1ebcb3
DTSTART:20240726T180000
DTSTAMP:20240627T143042Z
SUMMARY:Teen Nights - Roller Skating and Mini Golf
DESCRIPTION:
CREATED:20240627T143042Z
URL;VALUE=URI:http://holdmyticket.com/event/434478 

DTEND:20240726T200000
END:VEVENT
END:VCALENDAR