BEGIN:VCALENDAR
METHOD:PUBLISH
X-WR-TIMEZONE:America/Denver
PRODID:-//Hold My Ticket.//HMT Web App//EN
CALSCALE:GREGORIAN
METHOD:PUBLISH
X-WR-CALNAME:The Oriental Theater
X-WR-CALDESC:Upcoming events at The Oriental Theater
BEGIN:VTIMEZONE
TZID:America/Denver 
END:VTIMEZONE
BEGIN:VEVENT
SEQUENCE:2
TRANSP:OPAQUE
UID:d7445dc8129075dbb34c37d35fd6a8c7
DTSTART:20240914T183000
DTSTAMP:20240618T121517Z
SUMMARY:Mortiis
DESCRIPTION:
CREATED:20240618T121517Z
URL;VALUE=URI:http://holdmyticket.com/event/434495 

DTEND:20240914T230000
END:VEVENT
END:VCALENDAR