BEGIN:VCALENDAR
METHOD:PUBLISH
X-WR-TIMEZONE:America/Los_Angeles
PRODID:-//Hold My Ticket.//HMT Web App//EN
CALSCALE:GREGORIAN
METHOD:PUBLISH
X-WR-CALNAME:Dante's
X-WR-CALDESC:Upcoming events at Dante's
BEGIN:VTIMEZONE
TZID:America/Los_Angeles 
END:VTIMEZONE
BEGIN:VEVENT
SEQUENCE:2
TRANSP:OPAQUE
UID:5c7a0a2f0d730b84a13d8ae584b29289
DTSTART:20240825T180000
DTSTAMP:20240606T141335Z
SUMMARY:GOATWHORE 
DESCRIPTION:21+ / $20 ADV - $25 DOS / 5PM
CREATED:20240606T141335Z
URL;VALUE=URI:http://holdmyticket.com/event/434596 

DTEND:20240825T220000
END:VEVENT
END:VCALENDAR