BEGIN:VCALENDAR
METHOD:PUBLISH
X-WR-TIMEZONE:America/Chicago
PRODID:-//Hold My Ticket.//HMT Web App//EN
CALSCALE:GREGORIAN
METHOD:PUBLISH
X-WR-CALNAME:Granada Theater
X-WR-CALDESC:Upcoming events at Granada Theater
BEGIN:VTIMEZONE
TZID:America/Chicago 
END:VTIMEZONE
BEGIN:VEVENT
SEQUENCE:2
TRANSP:OPAQUE
UID:c06965540eba8bfe62f7cfd025e2b0ca
DTSTART:20241204T200000
DTSTAMP:20240611T200044Z
SUMMARY:Dance With The Dead
DESCRIPTION:
CREATED:20240611T200044Z
URL;VALUE=URI:http://holdmyticket.com/event/434755 

DTEND:20241204T230000
END:VEVENT
END:VCALENDAR