BEGIN:VCALENDAR
METHOD:PUBLISH
X-WR-TIMEZONE:America/Denver
PRODID:-//Hold My Ticket.//HMT Web App//EN
CALSCALE:GREGORIAN
METHOD:PUBLISH
X-WR-CALNAME:Launchpad
X-WR-CALDESC:Upcoming events at Launchpad
BEGIN:VTIMEZONE
TZID:America/Denver 
END:VTIMEZONE
BEGIN:VEVENT
SEQUENCE:2
TRANSP:OPAQUE
UID:057fbc3d2f8c77994be1f9fe402493e4
DTSTART:20250201T190000
DTSTAMP:20250201T221954Z
SUMMARY:The Browning * Dropout Kings * Filth * The Defect
DESCRIPTION:* The Browning * Dropout Kings * Filth * The Defect *
Omni USA Tour 

Saturday, February 1, 2024
Doors 630pm | Show 7pm
Launchpad
ABQ NM 
all ages 

Advance tickets - $20 + service charge
https://www.facebook.com/events/1569321164467117
CREATED:20250201T221954Z
URL;VALUE=URI:http://holdmyticket.com/event/435151 

DTEND:20250201T230000
END:VEVENT
END:VCALENDAR