BEGIN:VCALENDAR
METHOD:PUBLISH
X-WR-TIMEZONE:America/Denver
PRODID:-//Hold My Ticket.//HMT Web App//EN
CALSCALE:GREGORIAN
METHOD:PUBLISH
X-WR-CALNAME:Launchpad
X-WR-CALDESC:Upcoming events at Launchpad
BEGIN:VTIMEZONE
TZID:America/Denver 
END:VTIMEZONE
BEGIN:VEVENT
SEQUENCE:2
TRANSP:OPAQUE
UID:2dc72da5150786229257e3ea39fd4645
DTSTART:20241202T200000
DTSTAMP:20241202T190747Z
SUMMARY:Carpool Tunnel * Thursday Marks Fall * Gold Tides 
DESCRIPTION:* Carpool Tunnel * Thursday Marks Fall * Gold Tides * 

Monday, December 2, 2024
Doors 7pm | Show 8pm
Launchpad
ABQ NM 
all ages 

Advance tickets - $15 + service charge
https://www.facebook.com/events/462144163488511
CREATED:20241202T190747Z
URL;VALUE=URI:http://holdmyticket.com/event/435329 

DTEND:20241202T230000
END:VEVENT
END:VCALENDAR