BEGIN:VCALENDAR
METHOD:PUBLISH
X-WR-TIMEZONE:America/Los_Angeles
PRODID:-//Hold My Ticket.//HMT Web App//EN
CALSCALE:GREGORIAN
METHOD:PUBLISH
X-WR-CALNAME:Winstons
X-WR-CALDESC:Upcoming events at Winstons
BEGIN:VTIMEZONE
TZID:America/Los_Angeles 
END:VTIMEZONE
BEGIN:VEVENT
SEQUENCE:2
TRANSP:OPAQUE
UID:3d92d192353648c1e35ec079df3ddeb4
DTSTART:20241110T140000
DTSTAMP:20240827T144309Z
SUMMARY:Son Of Mars
DESCRIPTION:
CREATED:20240827T144309Z
URL;VALUE=URI:http://holdmyticket.com/event/435380 

DTEND:20241110T170000
END:VEVENT
END:VCALENDAR