BEGIN:VCALENDAR
METHOD:PUBLISH
X-WR-TIMEZONE:America/Los_Angeles
PRODID:-//Hold My Ticket.//HMT Web App//EN
CALSCALE:GREGORIAN
METHOD:PUBLISH
X-WR-CALNAME:Winstons
X-WR-CALDESC:Upcoming events at Winstons
BEGIN:VTIMEZONE
TZID:America/Los_Angeles 
END:VTIMEZONE
BEGIN:VEVENT
SEQUENCE:2
TRANSP:OPAQUE
UID:05f4bf8f8d934c60dad4a08d43125a2e
DTSTART:20240728T160000
DTSTAMP:20240708T124346Z
SUMMARY:Wapacheros + Ventures a Go-Go
DESCRIPTION: Wapacheros are a SoCal Chicano guitar-centric bordertown Cumbia boogie trio and the Ventures a Go-Go are a Rock &amp; Roll tribute band; a nod, a wink, and an ode to.....The Ventures!
CREATED:20240708T124346Z
URL;VALUE=URI:http://holdmyticket.com/event/435390 

DTEND:20240728T193000
END:VEVENT
END:VCALENDAR