BEGIN:VCALENDAR
METHOD:PUBLISH
X-WR-TIMEZONE:America/Los_Angeles
PRODID:-//Hold My Ticket.//HMT Web App//EN
CALSCALE:GREGORIAN
METHOD:PUBLISH
X-WR-CALNAME:Winstons
X-WR-CALDESC:Upcoming events at Winstons
BEGIN:VTIMEZONE
TZID:America/Los_Angeles 
END:VTIMEZONE
BEGIN:VEVENT
SEQUENCE:2
TRANSP:OPAQUE
UID:5730305140d773025457442840db2c58
DTSTART:20241011T213000
DTSTAMP:20240827T134059Z
SUMMARY:Universe Peoples
DESCRIPTION:
CREATED:20240827T134059Z
URL;VALUE=URI:http://holdmyticket.com/event/436238 

DTEND:20241012T003000
END:VEVENT
END:VCALENDAR