BEGIN:VCALENDAR
METHOD:PUBLISH
X-WR-TIMEZONE:America/Denver
PRODID:-//Hold My Ticket.//HMT Web App//EN
CALSCALE:GREGORIAN
METHOD:PUBLISH
X-WR-CALNAME:Launchpad
X-WR-CALDESC:Upcoming events at Launchpad
BEGIN:VTIMEZONE
TZID:America/Denver 
END:VTIMEZONE
BEGIN:VEVENT
SEQUENCE:2
TRANSP:OPAQUE
UID:a03e618942464bba1afcf55f6ec462f7
DTSTART:20250327T190000
DTSTAMP:20250327T213929Z
SUMMARY:Agnostic Front * Murphy's Law * Violent Way
DESCRIPTION:* Agnostic Front * Murphy's Law * Violent Way *

Thursday, March 27, 2025
Doors 6pm | Show 7pm
Launchpad
ABQ NM 
all ages 

Advance tickets - $25 + service charge
https://www.facebook.com/events/1107842754384289

NOW ON SALE! 
CREATED:20250327T213929Z
URL;VALUE=URI:http://holdmyticket.com/event/436390 

DTEND:20250327T230000
END:VEVENT
END:VCALENDAR