BEGIN:VCALENDAR
METHOD:PUBLISH
X-WR-TIMEZONE:America/Los_Angeles
PRODID:-//Hold My Ticket.//HMT Web App//EN
CALSCALE:GREGORIAN
METHOD:PUBLISH
X-WR-CALNAME:Winstons
X-WR-CALDESC:Upcoming events at Winstons
BEGIN:VTIMEZONE
TZID:America/Los_Angeles 
END:VTIMEZONE
BEGIN:VEVENT
SEQUENCE:2
TRANSP:OPAQUE
UID:f51619de802ce4d1c15e6b758e37c8e4
DTSTART:20241010T203000
DTSTAMP:20240827T133903Z
SUMMARY:LowDown Brass Band 
DESCRIPTION:
CREATED:20240827T133903Z
URL;VALUE=URI:http://holdmyticket.com/event/436562 

DTEND:20241010T233000
END:VEVENT
END:VCALENDAR