BEGIN:VCALENDAR
METHOD:PUBLISH
X-WR-TIMEZONE:America/Denver
PRODID:-//Hold My Ticket.//HMT Web App//EN
CALSCALE:GREGORIAN
METHOD:PUBLISH
X-WR-CALNAME:Blue Moon Bar & Grill
X-WR-CALDESC:Upcoming events at Blue Moon Bar & Grill
BEGIN:VTIMEZONE
TZID:America/Denver 
END:VTIMEZONE
BEGIN:VEVENT
SEQUENCE:2
TRANSP:OPAQUE
UID:62e59bc1e8f60602237e27a1e2ef6991
DTSTART:20240913T190000
DTSTAMP:20240913T101107Z
SUMMARY:Don Louis 
DESCRIPTION:Tickets go on sale Sept 19th at 6am
CREATED:20240913T101107Z
URL;VALUE=URI:http://holdmyticket.com/event/437063 

DTEND:20240913T230000
END:VEVENT
END:VCALENDAR