BEGIN:VCALENDAR
METHOD:PUBLISH
X-WR-TIMEZONE:America/Los_Angeles
PRODID:-//Hold My Ticket.//HMT Web App//EN
CALSCALE:GREGORIAN
METHOD:PUBLISH
X-WR-CALNAME:Twilight Cafe & Bar
X-WR-CALDESC:Upcoming events at Twilight Cafe & Bar
BEGIN:VTIMEZONE
TZID:America/Los_Angeles 
END:VTIMEZONE
BEGIN:VEVENT
SEQUENCE:2
TRANSP:OPAQUE
UID:2a1e307df0502c1d47dea978d00f9934
DTSTART:20241110T201500
DTSTAMP:20241110T175050Z
SUMMARY:GREYLOTUS / LUCRECIA 
DESCRIPTION:21+ / $15 ADV - $18 DOS / 8PM DOORS
CREATED:20241110T175050Z
URL;VALUE=URI:http://holdmyticket.com/event/437155 

DTEND:20241110T233000
END:VEVENT
END:VCALENDAR