BEGIN:VCALENDAR
METHOD:PUBLISH
X-WR-TIMEZONE:America/Los_Angeles
PRODID:-//Hold My Ticket.//HMT Web App//EN
CALSCALE:GREGORIAN
METHOD:PUBLISH
X-WR-CALNAME:Winstons
X-WR-CALDESC:Upcoming events at Winstons
BEGIN:VTIMEZONE
TZID:America/Los_Angeles 
END:VTIMEZONE
BEGIN:VEVENT
SEQUENCE:2
TRANSP:OPAQUE
UID:32de0f6a509cc293b25d8d82fbaf4108
DTSTART:20241017T210000
DTSTAMP:20240919T170743Z
SUMMARY:Boot Juice 
DESCRIPTION:
CREATED:20240919T170743Z
URL;VALUE=URI:http://holdmyticket.com/event/437375 

DTEND:20241018T000000
END:VEVENT
END:VCALENDAR