BEGIN:VCALENDAR
METHOD:PUBLISH
X-WR-TIMEZONE:America/Los_Angeles
PRODID:-//Hold My Ticket.//HMT Web App//EN
CALSCALE:GREGORIAN
METHOD:PUBLISH
X-WR-CALNAME:The Big Dipper
X-WR-CALDESC:Upcoming events at The Big Dipper
BEGIN:VTIMEZONE
TZID:America/Los_Angeles 
END:VTIMEZONE
BEGIN:VEVENT
SEQUENCE:2
TRANSP:OPAQUE
UID:e0eb62441e687476eb972cf93d0e99cc
DTSTART:20240914T180000
DTSTAMP:20240827T224110Z
SUMMARY:Volume Day 2
DESCRIPTION:
CREATED:20240827T224110Z
URL;VALUE=URI:http://holdmyticket.com/event/437603 

DTEND:20240914T234500
END:VEVENT
END:VCALENDAR