BEGIN:VCALENDAR
METHOD:PUBLISH
X-WR-TIMEZONE:America/Los_Angeles
PRODID:-//Hold My Ticket.//HMT Web App//EN
CALSCALE:GREGORIAN
METHOD:PUBLISH
X-WR-CALNAME:Winstons
X-WR-CALDESC:Upcoming events at Winstons
BEGIN:VTIMEZONE
TZID:America/Los_Angeles 
END:VTIMEZONE
BEGIN:VEVENT
SEQUENCE:2
TRANSP:OPAQUE
UID:1d2252d099f7cb0e34630829bb7371cb
DTSTART:20241101T210000
DTSTAMP:20240829T113934Z
SUMMARY:The Happys and Strawflower!
DESCRIPTION:
CREATED:20240829T113934Z
URL;VALUE=URI:http://holdmyticket.com/event/437826 

DTEND:20241102T000000
END:VEVENT
END:VCALENDAR