BEGIN:VCALENDAR
METHOD:PUBLISH
X-WR-TIMEZONE:America/Chicago
PRODID:-//Hold My Ticket.//HMT Web App//EN
CALSCALE:GREGORIAN
METHOD:PUBLISH
X-WR-CALNAME:The Railhouse
X-WR-CALDESC:Upcoming events at The Railhouse
BEGIN:VTIMEZONE
TZID:America/Chicago 
END:VTIMEZONE
BEGIN:VEVENT
SEQUENCE:2
TRANSP:OPAQUE
UID:9461b73ea793fb53c746e73bb54b4814
DTSTART:20241006T170000
DTSTAMP:20241004T125258Z
SUMMARY:Sunday Funday with DJ 2DQ &amp; Guest DJ's
DESCRIPTION:
CREATED:20241004T125258Z
URL;VALUE=URI:http://holdmyticket.com/event/437895 

DTEND:20241006T234500
END:VEVENT
END:VCALENDAR