BEGIN:VCALENDAR
METHOD:PUBLISH
X-WR-TIMEZONE:America/Denver
PRODID:-//Hold My Ticket.//HMT Web App//EN
CALSCALE:GREGORIAN
METHOD:PUBLISH
X-WR-CALNAME:FUSION | 708
X-WR-CALDESC:Upcoming events at FUSION | 708
BEGIN:VTIMEZONE
TZID:America/Denver 
END:VTIMEZONE
BEGIN:VEVENT
SEQUENCE:2
TRANSP:OPAQUE
UID:502f0bb4c6a333cc82c39c72b957fb91
DTSTART:20241206T193000
DTSTAMP:20241125T144705Z
SUMMARY:Clay Street Unit
DESCRIPTION:Based out of Denver, CO, Clay Street Unit is rooted deep in homegrown southern Country/Folk and branches into the bluegrass sound that's heard throughout the Appalachian hills.
CREATED:20241125T144705Z
URL;VALUE=URI:http://holdmyticket.com/event/438008 

DTEND:20241206T213000
END:VEVENT
END:VCALENDAR