BEGIN:VCALENDAR
METHOD:PUBLISH
X-WR-TIMEZONE:America/Denver
PRODID:-//Hold My Ticket.//HMT Web App//EN
CALSCALE:GREGORIAN
METHOD:PUBLISH
X-WR-CALNAME:FUSION | 708
X-WR-CALDESC:Upcoming events at FUSION | 708
BEGIN:VTIMEZONE
TZID:America/Denver 
END:VTIMEZONE
BEGIN:VEVENT
SEQUENCE:2
TRANSP:OPAQUE
UID:d78860db1495761e99764a38a91def6b
DTSTART:20250223T193000
DTSTAMP:20250205T144454Z
SUMMARY:Kathleen Edwards
DESCRIPTION:Kathleen Edwards is a modern-day cornerstone of North American roots music. Since making her debut with 2002's Failer, she's spent the 21st century occupying the grey area between genres, swirling together her own mix of alt-country, folk, and heartland rock &amp; roll. It's a sound that has earned its creator more than a half-dozen Juno nominations, shows with icons like Bob Dylan and Willie Nelson, and Top 40 success on both sides of the Canadian/American border. From co-writes with Maren Morris to critically-acclaimed solo records like Back to Me, Asking for Flowers, Voyageur, and Total Freedom, Edwards has become a leader of the Americana community.
CREATED:20250205T144454Z
URL;VALUE=URI:http://holdmyticket.com/event/438132 

DTEND:20250223T213000
END:VEVENT
END:VCALENDAR