BEGIN:VCALENDAR
METHOD:PUBLISH
X-WR-TIMEZONE:America/Los_Angeles
PRODID:-//Hold My Ticket.//HMT Web App//EN
CALSCALE:GREGORIAN
METHOD:PUBLISH
X-WR-CALNAME:Winstons
X-WR-CALDESC:Upcoming events at Winstons
BEGIN:VTIMEZONE
TZID:America/Los_Angeles 
END:VTIMEZONE
BEGIN:VEVENT
SEQUENCE:2
TRANSP:OPAQUE
UID:92f0623edea1c0ee99862312b7186e87
DTSTART:20240926T203000
DTSTAMP:20240926T211835Z
SUMMARY:Audrey &amp; The Sound Gallery - The Tones 
DESCRIPTION:
CREATED:20240926T211835Z
URL;VALUE=URI:http://holdmyticket.com/event/438165 

DTEND:20240926T233000
END:VEVENT
END:VCALENDAR