BEGIN:VCALENDAR
METHOD:PUBLISH
X-WR-TIMEZONE:America/Chicago
PRODID:-//Hold My Ticket.//HMT Web App//EN
CALSCALE:GREGORIAN
METHOD:PUBLISH
X-WR-CALNAME:Whiskey River Country
X-WR-CALDESC:Upcoming events at Whiskey River Country
BEGIN:VTIMEZONE
TZID:America/Chicago 
END:VTIMEZONE
BEGIN:VEVENT
SEQUENCE:2
TRANSP:OPAQUE
UID:7b359ad733cc39db7c1699ad9b860899
DTSTART:20240921T220000
DTSTAMP:20240917T072616Z
SUMMARY:David Lewis
DESCRIPTION:
CREATED:20240917T072616Z
URL;VALUE=URI:http://holdmyticket.com/event/438290 

DTEND:20240922T030000
END:VEVENT
END:VCALENDAR