BEGIN:VCALENDAR
METHOD:PUBLISH
X-WR-TIMEZONE:America/Chicago
PRODID:-//Hold My Ticket.//HMT Web App//EN
CALSCALE:GREGORIAN
METHOD:PUBLISH
X-WR-CALNAME:The Railhouse
X-WR-CALDESC:Upcoming events at The Railhouse
BEGIN:VTIMEZONE
TZID:America/Chicago 
END:VTIMEZONE
BEGIN:VEVENT
SEQUENCE:2
TRANSP:OPAQUE
UID:28ce3ef3a24ba77982370b53d75ed093
DTSTART:20241102T170000
DTSTAMP:20240916T160133Z
SUMMARY:Los Sparknotes (Free Indoor Matinee Show)
DESCRIPTION:
CREATED:20240916T160133Z
URL;VALUE=URI:http://holdmyticket.com/event/438299 

DTEND:20241102T190000
END:VEVENT
END:VCALENDAR