BEGIN:VCALENDAR
METHOD:PUBLISH
X-WR-TIMEZONE:America/Denver
PRODID:-//Hold My Ticket.//HMT Web App//EN
CALSCALE:GREGORIAN
METHOD:PUBLISH
X-WR-CALNAME:FUSION | The Cell
X-WR-CALDESC:Upcoming events at FUSION | The Cell
BEGIN:VTIMEZONE
TZID:America/Denver 
END:VTIMEZONE
BEGIN:VEVENT
SEQUENCE:2
TRANSP:OPAQUE
UID:74339046664814278c4fe0f74d392edf
DTSTART:20241218T193000
DTSTAMP:20241218T154935Z
SUMMARY:Mem Shannon
DESCRIPTION:Mem Shannon is a former 15-year Bourbon Street cab driver who emerged onto the scene in 1996 with his first release, "A Cab Driver's Blues" on Hannibal/Rykodisc. The breakthrough buzz album led to national media coverage from folks like ABC World News, CBS Sunday Morning, CNN, E! Entertainment Television, The New York Times, NPR.
CREATED:20241218T154935Z
URL;VALUE=URI:http://holdmyticket.com/event/438359 

DTEND:20241218T220000
END:VEVENT
END:VCALENDAR