BEGIN:VCALENDAR
METHOD:PUBLISH
X-WR-TIMEZONE:America/New_York
PRODID:-//Hold My Ticket.//HMT Web App//EN
CALSCALE:GREGORIAN
METHOD:PUBLISH
X-WR-CALNAME:Terra Fermata
X-WR-CALDESC:Upcoming events at Terra Fermata
BEGIN:VTIMEZONE
TZID:America/New_York 
END:VTIMEZONE
BEGIN:VEVENT
SEQUENCE:2
TRANSP:OPAQUE
UID:0c7d110c050d3c4a370108e0515cd429
DTSTART:20241022T190000
DTSTAMP:20240919T122347Z
SUMMARY:STONYVIBEZ OPEN MIC/JAM SESSIONS
DESCRIPTION:Beginning October 1. Hosted by Cody "Stony" Moral. Tuesdays are your chance to get on the famous Terra Stage and be the entertainment. All skill levels and musical genres are welcome. All Ages, All Outdoors, All fun. Doors open at 6pm. Happy Hour with all craft beer drafts just $5, is from 6-7pm. Sign-up begins at 6:30 and show time is from 7-10. Load up your instrument and come on over. NO COVER CHARGE!
CREATED:20240919T122347Z
URL;VALUE=URI:http://holdmyticket.com/event/438484 

DTEND:20241022T220000
END:VEVENT
END:VCALENDAR