BEGIN:VCALENDAR
METHOD:PUBLISH
X-WR-TIMEZONE:America/Denver
PRODID:-//Hold My Ticket.//HMT Web App//EN
CALSCALE:GREGORIAN
METHOD:PUBLISH
X-WR-CALNAME:Albuquerque Academy
X-WR-CALDESC:Upcoming events at Albuquerque Academy
BEGIN:VTIMEZONE
TZID:America/Denver 
END:VTIMEZONE
BEGIN:VEVENT
SEQUENCE:2
TRANSP:OPAQUE
UID:1a9c137086b0dcd9ee51d33e5f785571
DTSTART:20241028T110000
DTSTAMP:20240925T221152Z
SUMMARY:OUTREACH - Kassa Overall
DESCRIPTION:Kassa Overall is a Grammy-nominated musician, emcee, singer, producer and drummer who melds avant-garde experimentation with hip-hop production techniques to tilt the nexus of jazz and rap in unmapped directions. He previously released four critically acclaimed projects: I THINK I'M GOOD, Go Get Ice Cream and Listen to Jazz, Shades of Flu and Shades of Flu 2. On Animals, his Warp Records debut, Kassa pushes his kaleidoscopic, subversive vision further. 
CREATED:20240925T221152Z
URL;VALUE=URI:http://holdmyticket.com/event/438788 

DTEND:20241028T120000
END:VEVENT
END:VCALENDAR