BEGIN:VCALENDAR
METHOD:PUBLISH
X-WR-TIMEZONE:America/Denver
PRODID:-//Hold My Ticket.//HMT Web App//EN
CALSCALE:GREGORIAN
METHOD:PUBLISH
X-WR-CALNAME:Buffalo Rose
X-WR-CALDESC:Upcoming events at Buffalo Rose
BEGIN:VTIMEZONE
TZID:America/Denver 
END:VTIMEZONE
BEGIN:VEVENT
SEQUENCE:2
TRANSP:OPAQUE
UID:f52ad33cb0d8e7f8c198230affff88e1
DTSTART:20250118T100000
DTSTAMP:20241209T084143Z
SUMMARY:34th Colorado Cowboy Gathering DAY 2 Matinee
DESCRIPTION:
CREATED:20241209T084143Z
URL;VALUE=URI:http://holdmyticket.com/event/438955 

DTEND:20250118T170000
END:VEVENT
END:VCALENDAR