BEGIN:VCALENDAR
METHOD:PUBLISH
X-WR-TIMEZONE:America/Los_Angeles
PRODID:-//Hold My Ticket.//HMT Web App//EN
CALSCALE:GREGORIAN
METHOD:PUBLISH
X-WR-CALNAME:Winstons
X-WR-CALDESC:Upcoming events at Winstons
BEGIN:VTIMEZONE
TZID:America/Los_Angeles 
END:VTIMEZONE
BEGIN:VEVENT
SEQUENCE:2
TRANSP:OPAQUE
UID:db3757aa29b23c220a15c9b0f2087b25
DTSTART:20241220T210000
DTSTAMP:20241220T222918Z
SUMMARY:The Irie with  The Riddims and Ease Up 
DESCRIPTION:
CREATED:20241220T222918Z
URL;VALUE=URI:http://holdmyticket.com/event/438967 

DTEND:20241221T000000
END:VEVENT
END:VCALENDAR