BEGIN:VCALENDAR
METHOD:PUBLISH
X-WR-TIMEZONE:America/Denver
PRODID:-//Hold My Ticket.//HMT Web App//EN
CALSCALE:GREGORIAN
METHOD:PUBLISH
X-WR-CALNAME:Launchpad
X-WR-CALDESC:Upcoming events at Launchpad
BEGIN:VTIMEZONE
TZID:America/Denver 
END:VTIMEZONE
BEGIN:VEVENT
SEQUENCE:2
TRANSP:OPAQUE
UID:e390641fd179ed9e64b1e94797a164f8
DTSTART:20241229T200000
DTSTAMP:20241229T202721Z
SUMMARY:Cracker
DESCRIPTION:
CREATED:20241229T202721Z
URL;VALUE=URI:http://holdmyticket.com/event/438977 

DTEND:20241229T230000
END:VEVENT
END:VCALENDAR