BEGIN:VCALENDAR
METHOD:PUBLISH
X-WR-TIMEZONE:America/New_York
PRODID:-//Hold My Ticket.//HMT Web App//EN
CALSCALE:GREGORIAN
METHOD:PUBLISH
X-WR-CALNAME:Terra Fermata
X-WR-CALDESC:Upcoming events at Terra Fermata
BEGIN:VTIMEZONE
TZID:America/New_York 
END:VTIMEZONE
BEGIN:VEVENT
SEQUENCE:2
TRANSP:OPAQUE
UID:be6c5bcbb63aad594f66ed6fe4802e94
DTSTART:20241024T190000
DTSTAMP:20240930T132411Z
SUMMARY:THE ALICE SHOW - Alice Cooper Tribute Show
DESCRIPTION:$12 Advance, $17 door. Get ready for a night of pure rock 'n' roll madness with The Alice Show--the ultimate Alice Cooper tribute! 🎸 Prepare to be transported into a world of shock rock, theatrics, and hard-hitting hits as this tribute band brings all the iconic energy and outrageous stage presence of Alice Cooper to life.

Join us on October 24th at Terra Fermata for an unforgettable show from 7-10 PM. Rock out to classics like "School's Out," "No More Mr. Nice Guy," and many more in a performance that captures the raw intensity and spectacle of the Godfather of Shock Rock himself.
CREATED:20240930T132411Z
URL;VALUE=URI:http://holdmyticket.com/event/438987 

DTEND:20241024T220000
END:VEVENT
END:VCALENDAR