BEGIN:VCALENDAR
METHOD:PUBLISH
X-WR-TIMEZONE:America/Denver
PRODID:-//Hold My Ticket.//HMT Web App//EN
CALSCALE:GREGORIAN
METHOD:PUBLISH
X-WR-CALNAME:The Gothic Theatre
X-WR-CALDESC:Upcoming events at The Gothic Theatre
BEGIN:VTIMEZONE
TZID:America/Denver 
END:VTIMEZONE
BEGIN:VEVENT
SEQUENCE:2
TRANSP:OPAQUE
UID:a604b727e2c3978b0f689022e4ca9a5b
DTSTART:20250515T200000
DTSTAMP:20241001T115045Z
SUMMARY:Gang Of Four
DESCRIPTION:
CREATED:20241001T115045Z
URL;VALUE=URI:http://holdmyticket.com/event/439019 

DTEND:20250515T233000
END:VEVENT
END:VCALENDAR