BEGIN:VCALENDAR
METHOD:PUBLISH
X-WR-TIMEZONE:America/Denver
PRODID:-//Hold My Ticket.//HMT Web App//EN
CALSCALE:GREGORIAN
METHOD:PUBLISH
X-WR-CALNAME:Buffalo Rose
X-WR-CALDESC:Upcoming events at Buffalo Rose
BEGIN:VTIMEZONE
TZID:America/Denver 
END:VTIMEZONE
BEGIN:VEVENT
SEQUENCE:2
TRANSP:OPAQUE
UID:d1b6fd57ac0efa5ba4dc11ca6cbcd2e8
DTSTART:20250118T193000
DTSTAMP:20250113T110927Z
SUMMARY:34th Colorado Cowboy Gathering DAY 2 Evening
DESCRIPTION:
CREATED:20250113T110927Z
URL;VALUE=URI:http://holdmyticket.com/event/439056 

DTEND:20250118T220000
END:VEVENT
END:VCALENDAR