BEGIN:VCALENDAR
METHOD:PUBLISH
X-WR-TIMEZONE:America/Denver
PRODID:-//Hold My Ticket.//HMT Web App//EN
CALSCALE:GREGORIAN
METHOD:PUBLISH
X-WR-CALNAME:Lensic Performing Arts Center 
X-WR-CALDESC:Upcoming events at Lensic Performing Arts Center 
BEGIN:VTIMEZONE
TZID:America/Denver 
END:VTIMEZONE
BEGIN:VEVENT
SEQUENCE:2
TRANSP:OPAQUE
UID:fab6677ed848aa3f120fd112eb0c3f9e
DTSTART:20250214T193000
DTSTAMP:20250129T153709Z
SUMMARY:Solas
DESCRIPTION:
CREATED:20250129T153709Z
URL;VALUE=URI:http://holdmyticket.com/event/439166 

DTEND:20250214T230000
END:VEVENT
END:VCALENDAR