BEGIN:VCALENDAR
METHOD:PUBLISH
X-WR-TIMEZONE:America/Chicago
PRODID:-//Hold My Ticket.//HMT Web App//EN
CALSCALE:GREGORIAN
METHOD:PUBLISH
X-WR-CALNAME:The Railhouse
X-WR-CALDESC:Upcoming events at The Railhouse
BEGIN:VTIMEZONE
TZID:America/Chicago 
END:VTIMEZONE
BEGIN:VEVENT
SEQUENCE:2
TRANSP:OPAQUE
UID:cd1338fe16a5899109322b9d5ba27b96
DTSTART:20250629T180000
DTSTAMP:20250623T123557Z
SUMMARY:MC MAGIC
DESCRIPTION:
CREATED:20250623T123557Z
URL;VALUE=URI:http://holdmyticket.com/event/439175 

DTEND:20250629T230000
END:VEVENT
END:VCALENDAR