BEGIN:VCALENDAR
METHOD:PUBLISH
X-WR-TIMEZONE:America/Denver
PRODID:-//Hold My Ticket.//HMT Web App//EN
CALSCALE:GREGORIAN
METHOD:PUBLISH
X-WR-CALNAME:Sunshine Theater
X-WR-CALDESC:Upcoming events at Sunshine Theater
BEGIN:VTIMEZONE
TZID:America/Denver 
END:VTIMEZONE
BEGIN:VEVENT
SEQUENCE:2
TRANSP:OPAQUE
UID:05892d13cabfe6a44f32b25e9a2c3369
DTSTART:20250325T193000
DTSTAMP:20241018T125630Z
SUMMARY:K.Flay
DESCRIPTION:Based in LA and originally from Illinois, multi-platinum artist K.Flay, born Kristine Flaherty, started rapping and writing songs on a lark while attending Stanford University, and soon began releasing her self-produced mixtapes. In 2017 she released her major label debut album Every Where Is Some Where, earning two Grammy Award nominations for the album's iconic smash single "Blood in the Cut" and sending her to arenas around the world with her kinetic live set. As a songwriter, musician, and producer, she's lent her talents to numerous collaborations, working with Fitz and the Tantrums, Bishop Briggs, Tom Morello, Louis the Child, Kaskade, Walk the Moon, Imagine Dragons, grandson, The Regrettes, Two Feet, MisterWives, and more. 
CREATED:20241018T125630Z
URL;VALUE=URI:http://holdmyticket.com/event/439190 

DTEND:20250325T220000
END:VEVENT
END:VCALENDAR