BEGIN:VCALENDAR
METHOD:PUBLISH
X-WR-TIMEZONE:America/Denver
PRODID:-//Hold My Ticket.//HMT Web App//EN
CALSCALE:GREGORIAN
METHOD:PUBLISH
X-WR-CALNAME:The Oriental Theater
X-WR-CALDESC:Upcoming events at The Oriental Theater
BEGIN:VTIMEZONE
TZID:America/Denver 
END:VTIMEZONE
BEGIN:VEVENT
SEQUENCE:2
TRANSP:OPAQUE
UID:9e09876749b9618c0224ac2c5d35c044
DTSTART:20241127T200000
DTSTAMP:20241114T162012Z
SUMMARY:Lucha Libre &amp; Laughs: Black Out For Local TV
DESCRIPTION:
CREATED:20241114T162012Z
URL;VALUE=URI:http://holdmyticket.com/event/439296 

DTEND:20241127T223000
END:VEVENT
END:VCALENDAR