BEGIN:VCALENDAR
METHOD:PUBLISH
X-WR-TIMEZONE:America/Denver
PRODID:-//Hold My Ticket.//HMT Web App//EN
CALSCALE:GREGORIAN
METHOD:PUBLISH
X-WR-CALNAME:Quezada's Comedy Club & Cantina
X-WR-CALDESC:Upcoming events at Quezada's Comedy Club & Cantina
BEGIN:VTIMEZONE
TZID:America/Denver 
END:VTIMEZONE
BEGIN:VEVENT
SEQUENCE:2
TRANSP:OPAQUE
UID:fd953c4f5370e1469e323b350d4bb47c
DTSTART:20250301T213000
DTSTAMP:20241022T120906Z
SUMMARY:Margaret Cho
DESCRIPTION:
CREATED:20241022T120906Z
URL;VALUE=URI:http://holdmyticket.com/event/439608 

DTEND:20250301T230000
END:VEVENT
END:VCALENDAR