BEGIN:VCALENDAR
METHOD:PUBLISH
X-WR-TIMEZONE:Pacific/Honolulu
PRODID:-//Hold My Ticket.//HMT Web App//EN
CALSCALE:GREGORIAN
METHOD:PUBLISH
X-WR-CALNAME:-- See Details Inside
X-WR-CALDESC:Upcoming events at -- See Details Inside
BEGIN:VTIMEZONE
TZID:Pacific/Honolulu 
END:VTIMEZONE
BEGIN:VEVENT
SEQUENCE:2
TRANSP:OPAQUE
UID:78aea7a452584e7f6c215c4705a1d3ed
DTSTART:20250118T200000
DTSTAMP:20241120T190619Z
SUMMARY:The Dwarves 
DESCRIPTION:
CREATED:20241120T190619Z
URL;VALUE=URI:http://holdmyticket.com/event/440073 

DTEND:20250119T014500
END:VEVENT
END:VCALENDAR